BEGIN:VCALENDAR
VERSION:2.0
PRODID:-// - ECPv6.15.20//NONSGML v1.0//EN
CALSCALE:GREGORIAN
METHOD:PUBLISH
X-ORIGINAL-URL:https://sociedadmahler.org
X-WR-CALDESC:Eventos para 
REFRESH-INTERVAL;VALUE=DURATION:PT1H
X-Robots-Tag:noindex
X-PUBLISHED-TTL:PT1H
BEGIN:VTIMEZONE
TZID:UTC
BEGIN:STANDARD
TZOFFSETFROM:+0000
TZOFFSETTO:+0000
TZNAME:UTC
DTSTART:20190101T000000
END:STANDARD
END:VTIMEZONE
BEGIN:VEVENT
DTSTART;TZID=UTC:20200901T090000
DTEND;TZID=UTC:20200901T100000
DTSTAMP:20260423T090344
CREATED:20200711T021432Z
LAST-MODIFIED:20200711T021448Z
UID:511-1598950800-1598954400@sociedadmahler.org
SUMMARY:The Mahler Hour
DESCRIPTION:Comparte esto:\n				Comparte en Facebook (Se abre en una ventana nueva)\n				Facebook\n			\n				Share on X (Se abre en una ventana nueva)\n				X\n			\n				Share on WhatsApp (Se abre en una ventana nueva)\n				WhatsApp
URL:https://sociedadmahler.org/evento/the-mahler-hour/
END:VEVENT
END:VCALENDAR